BEGIN:VCALENDAR
VERSION:2.0
PRODID:SchoolNow
CALSCALE:GREGORIAN
BEGIN:VEVENT
UID:2a3a3d60-93e1-11f0-9dde-0a58a9feac02
DTSTAMP:20250917T161253Z
SUMMARY:CDD Board Meeting - May 2026
LOCATION:Hilton Garden Inn\, 4328 Garden Vista Drive\, Riverview\, Florida 
 33578
URL;VALUE=URI:https://www.southshorebaycdd.org/calendar/8632917/cdd-board-m
 eeting-may-2026
DTSTART:20260511T220000Z
DTEND:20260511T230000Z
END:VEVENT
END:VCALENDAR
